BEGIN:VCALENDAR
VERSION:2.0
PRODID:-//Initiativkreis für Pflege- und Adoptiveltern im Rhein-Sieg-Kreis - ECPv6.15.14//NONSGML v1.0//EN
CALSCALE:GREGORIAN
METHOD:PUBLISH
X-ORIGINAL-URL:https://www.staerkungmachtdenalltag.de
X-WR-CALDESC:Veranstaltungen für Initiativkreis für Pflege- und Adoptiveltern im Rhein-Sieg-Kreis
REFRESH-INTERVAL;VALUE=DURATION:PT1H
X-Robots-Tag:noindex
X-PUBLISHED-TTL:PT1H
BEGIN:VTIMEZONE
TZID:Europe/Berlin
BEGIN:DAYLIGHT
TZOFFSETFROM:+0100
TZOFFSETTO:+0200
TZNAME:CEST
DTSTART:20240331T010000
END:DAYLIGHT
BEGIN:STANDARD
TZOFFSETFROM:+0200
TZOFFSETTO:+0100
TZNAME:CET
DTSTART:20241027T010000
END:STANDARD
BEGIN:DAYLIGHT
TZOFFSETFROM:+0100
TZOFFSETTO:+0200
TZNAME:CEST
DTSTART:20250330T010000
END:DAYLIGHT
BEGIN:STANDARD
TZOFFSETFROM:+0200
TZOFFSETTO:+0100
TZNAME:CET
DTSTART:20251026T010000
END:STANDARD
BEGIN:DAYLIGHT
TZOFFSETFROM:+0100
TZOFFSETTO:+0200
TZNAME:CEST
DTSTART:20260329T010000
END:DAYLIGHT
BEGIN:STANDARD
TZOFFSETFROM:+0200
TZOFFSETTO:+0100
TZNAME:CET
DTSTART:20261025T010000
END:STANDARD
BEGIN:DAYLIGHT
TZOFFSETFROM:+0100
TZOFFSETTO:+0200
TZNAME:CEST
DTSTART:20270328T010000
END:DAYLIGHT
BEGIN:STANDARD
TZOFFSETFROM:+0200
TZOFFSETTO:+0100
TZNAME:CET
DTSTART:20271031T010000
END:STANDARD
END:VTIMEZONE
BEGIN:VEVENT
DTSTART;TZID=Europe/Berlin:20260226T200000
DTEND;TZID=Europe/Berlin:20260226T220000
DTSTAMP:20260420T014505
CREATED:20250629T140300Z
LAST-MODIFIED:20251103T112154Z
UID:1438-1772136000-1772143200@www.staerkungmachtdenalltag.de
SUMMARY:Gruppentreffen\, 26.02.2026
DESCRIPTION:Treffpunkt:\nFamilienbildungssstätte Lebenshilfe\,\nBonner Str. 68 a\,\n53757 St. Augustin (Eingang hinter dem Haus)\nBeginn: 20.00 Uhr \n\n\n\n\n\n\n\n\n\n\n\n\n\n\nWir freuen uns über neue Gesichter! Wenn Sie zum ersten Mal dabei sein möchten\, melden Sie sich bitte vorher kurz telefonisch bei uns – so können wir Sie bestmöglich willkommen heißen.
URL:https://www.staerkungmachtdenalltag.de/event/gruppentreffen-30-10-2025/
LOCATION:Gruppentreffen\, Bonner Str. 68 a\, St. Augustin\, 53757\, Germany
CATEGORIES:Aktuelles,Gruppentreffen
END:VEVENT
BEGIN:VEVENT
DTSTART;TZID=Europe/Berlin:20251227T080000
DTEND;TZID=Europe/Berlin:20251230T170000
DTSTAMP:20260420T014505
CREATED:20251029T112040Z
LAST-MODIFIED:20251029T112040Z
UID:1791-1766822400-1767114000@www.staerkungmachtdenalltag.de
SUMMARY:Reiterferien in den Weihnachtsferien im RAI-Ausbildungszentrum Sauerland\, Schmallenberg
DESCRIPTION:In den kommenden Weihnachtsferien bietet das RAI-Ausbildungszentrum Sauerland in Schmallenberg wieder spannende Reiterferien an – vom 27. bis 30. Dezember 2025.Die Kinder erwarten vier erlebnisreiche Tage mit Pferden\, inklusive Vollverpflegung und drei Übernachtungen – alles für nur 235 €. \nEin besonderes Extra: Die Skipiste liegt direkt nebenan – ideal zum Schlittenfahren\, wenn Schnee liegt! \nEs sind noch freie Plätze verfügbar.Weitere Informationen und Buchung unter 👉 www.rai-reiten.net
URL:https://www.staerkungmachtdenalltag.de/event/reiterferien-in-den-weihnachtsferien-im-rai-ausbildungszentrum-sauerland-schmallenberg/
CATEGORIES:Aktuelles
END:VEVENT
BEGIN:VEVENT
DTSTART;TZID=Europe/Berlin:20251211T200000
DTEND;TZID=Europe/Berlin:20251211T220000
DTSTAMP:20260420T014505
CREATED:20250629T140409Z
LAST-MODIFIED:20251103T112147Z
UID:1440-1765483200-1765490400@www.staerkungmachtdenalltag.de
SUMMARY:Gruppentreffen\, 11.12.2025
DESCRIPTION:Treffpunkt:\nFamilienbildungssstätte Lebenshilfe\,\nBonner Str. 68 a\,\n53757 St. Augustin (Eingang hinter dem Haus)\nBeginn: 20.00 Uhr \n\n\n\n\n\n\n\n\n\n\n\n\n\n\nWir freuen uns über neue Gesichter! Wenn Sie zum ersten Mal dabei sein möchten\, melden Sie sich bitte vorher kurz telefonisch bei uns – so können wir Sie bestmöglich willkommen heißen.
URL:https://www.staerkungmachtdenalltag.de/event/gruppentreffen-11-12-2025/
LOCATION:Gruppentreffen\, Bonner Str. 68 a\, St. Augustin\, 53757\, Germany
CATEGORIES:Aktuelles,Gruppentreffen
END:VEVENT
BEGIN:VEVENT
DTSTART;TZID=Europe/Berlin:20250920T120000
DTEND;TZID=Europe/Berlin:20250920T163000
DTSTAMP:20260420T014505
CREATED:20250829T070201Z
LAST-MODIFIED:20250829T070833Z
UID:1773-1758369600-1758385800@www.staerkungmachtdenalltag.de
SUMMARY:Familiendialog am Samstag\, 20.09.2025 mit Familienministerin Paul
DESCRIPTION:Das Familienministerium Nordrhein-Westfalen möchte die Lebensrealitäten von Pflegefamilien besser verstehen und Ihre Erfahrungen\, Sichtweisen und Bedürfnisse gezielter in den Mittelpunkt stellen. Deshalb laden wir Sie herzlich zu unserer Dialogveranstaltung ein – denn niemand weiß so gut wie Sie\, was Pflegefamilien im Alltag bewegt. \nBei der Veranstaltung wird es einen offenen Austausch geben. Geplant sind: \n\nein Impulsvortrag von Familienministerin Josefine Paul\,\nin kurzer Einblick in unsere aktuelle Studie\,\nsowie Workshops mit Ihnen zu den Themen Familiengericht\, Kita/Schule\, kindgerechte Umgangskontakte und Bereitschaftspflege.\n\nWir freuen uns besonders\, dass neben Ministerin Paul auch Gäste aus anderen Ministerien teilnehmen werden (wir arbeiten daran!). \nAlle weiteren Informationen und die Möglichkeit zur Anmeldung finden Sie hier:\nBitte melden Sie sich bis spätestens 17. September 2025 an.\nZur Anmeldung und Info-Seite
URL:https://www.staerkungmachtdenalltag.de/event/familiendialog-am-samstag-20-09-2025-mit-familienministerin-paul/
CATEGORIES:Aktuelles
END:VEVENT
BEGIN:VEVENT
DTSTART;TZID=Europe/Berlin:20250913T100000
DTEND;TZID=Europe/Berlin:20250913T160000
DTSTAMP:20260420T014505
CREATED:20250704T095525Z
LAST-MODIFIED:20250704T100424Z
UID:1715-1757757600-1757779200@www.staerkungmachtdenalltag.de
SUMMARY:Seminar: „Rechte und Pflichten von Pflegeeltern“
DESCRIPTION:Rechtliche Grundlagen für Pflegeeltern – Ein Überblick \nDas Pflegekindschaftsrecht ist ein besonderes Rechtsgebiet\, das sowohl vom Öffentlichen Recht als auch vom Privatrecht geprägt wird. Wichtige rechtliche Grundlagen finden sich im Kinder- und Jugendhilferecht (SGB VIII)\, im Familienrecht (BGB) sowie im Familienverfahrensrecht (FamFG). Darüber hinaus geben die Grundrechte des Grundgesetzes den übergeordneten Rahmen vor. \nDamit Pflegeeltern sich in diesem komplexen rechtlichen Geflecht sicherer bewegen und ihre Rechte und Pflichten besser einschätzen können\, vermittelt dieses Seminar – unter Berücksichtigung der aktuellen Neuerungen durch das Kinder- und Jugendstärkungsgesetz (KJSG) – einen verständlichen Überblick über die relevanten rechtlichen Grundlagen aus GG\, SGB VIII\, BGB und FamFG. \nThemen des Seminars sind unter anderem: \n\nBeratungs- und Unterstützungsansprüche\nHilfeplanverfahren und Beteiligung\nWunsch- und Wahlrecht\nSorgerechtliche Befugnisse und Vollmachten\nVormundschaft\nUmgangsregelungen und Verbleib des Pflegekindes\nMitteilungspflichten und Sozialgeheimnisse\nDie Rolle der Pflegeeltern im familiengerichtlichen Verfahren\n\nSelbstverständlich ist auch Raum für Ihre individuellen Fragen und Anliegen – Ihre Erfahrungen und Perspektiven sind ausdrücklich willkommen. \nIn Kooperation mit:PAN NRW e.V. \nReferentin:Karola von Zedlitz-NeukirchFachanwältin für Familienrecht\, Mediatorin\, B.Sc. Psychologie und selbst Pflegemutter. \nVeranstaltungsort:DüsseldorfDen genauen Ort sowie eine Anfahrtsbeschreibung erhalten Sie nach Ihrer Anmeldung per E-Mail. \nTeilnahmegebühr: \n\nPflegeeltern (je 2 Personen): 110\,00 €\nEinzelpersonen (Pflegevater oder Pflegemutter): 59\,00 €\n\nLink: https://stiftung-pflegekind.de/events/seminar-rechte-und-pflichten-von-pflegeeltern-13-09-2025/
URL:https://www.staerkungmachtdenalltag.de/event/seminar-rechte-und-pflichten-von-pflegeeltern/
CATEGORIES:Aktuelles
END:VEVENT
BEGIN:VEVENT
DTSTART;TZID=Europe/Berlin:20250829T183000
DTEND;TZID=Europe/Berlin:20250829T210000
DTSTAMP:20260420T014505
CREATED:20250630T115052Z
LAST-MODIFIED:20250702T142144Z
UID:1513-1756492200-1756501200@www.staerkungmachtdenalltag.de
SUMMARY:Online-Seminar: Ausstieg aus dem Teufelskreis – Deeskalation in Pflege- und Adoptivfamilien
DESCRIPTION:Die Lebenserfahrung des Pflege- oder Adoptivkindes hinterlässt Spuren in seinem Gehirn\, seinem Verhalten und seinem Erleben von Beziehungen. Diese Erfahrungen bringt es mit in die neue Familie. Das Kind teilt sie unmittelbar mit\, indem es die Gefühle der Pflege- oder Adoptiveltern und der Geschwister bewegt. Aufgrund seiner Beziehungserfahrungen bringt es Eskalationsstrategien mit\, hat aber wenig Erfahrung im versöhnlichen Lösen von Konflikten. Um das zu lernen\, ist es auf die Kompetenz seiner Pflegeeltern angewiesen. \nIn der Kleingruppenarbeit geht es um praktische Fragen: \n\nWas sind die alltäglichen Krisengebiete für Eskalationen?\nWas tun\, wenn´s brennt? – Wie können wir Eskalation entschärfen?\nWelche langfristigen Strategien nutzen wir zur Verbesserung der Beziehungen?\nWie regulieren wir unsere eigenen Gefühle\, um präsent zu bleiben?\n\nFür Fragen der Teilnehmer*innen und Diskussionen im Plenum steht Zeit zur Verfügung. Die Seminarunterlagen umfassen ein Skript\, Literaturhinweise sowie Arbeitsblätter für den Familienalltag. \nReferent\nKay-Uwe Fock \nVeranstalter\nPFAD Bundesverband der Pflege- und Adoptivfamilien e.V. \nAnmeldung und Infos\nhttps://www.pfad-bv.de/veranstaltungen/ausstieg-aus-dem-teufelskreis-deeskalation-in-pflege-und-adoptivfamilien-os9-25/ \nAnmeldeschluss ist der 15.08.2025.\nAbsagen sind nur bis zum 15.08.20254 kostenfrei möglich. \nKosten\nFür Mitglieder im PFAD Bundesverband und seinen Mitgliedsorganisationen beträgt die Teilnahmegebühr 17\,50 €.\nFür Nichtmitglieder beträgt die Teilnahmegebühr 49\,00 €.
URL:https://www.staerkungmachtdenalltag.de/event/online-seminar-ausstieg-aus-dem-teufelskreis-deeskalation-in-pflege-und-adoptivfamilien/
CATEGORIES:Aktuelles
END:VEVENT
END:VCALENDAR